BEGIN:VCALENDAR
VERSION:2.0
PRODID:-//The Delaplaine Arts Center - ECPv6.15.20//NONSGML v1.0//EN
CALSCALE:GREGORIAN
METHOD:PUBLISH
X-WR-CALNAME:The Delaplaine Arts Center
X-ORIGINAL-URL:https://delaplaine.org
X-WR-CALDESC:Events for The Delaplaine Arts Center
REFRESH-INTERVAL;VALUE=DURATION:PT1H
X-Robots-Tag:noindex
X-PUBLISHED-TTL:PT1H
BEGIN:VTIMEZONE
TZID:America/New_York
BEGIN:DAYLIGHT
TZOFFSETFROM:-0500
TZOFFSETTO:-0400
TZNAME:EDT
DTSTART:20250309T070000
END:DAYLIGHT
BEGIN:STANDARD
TZOFFSETFROM:-0400
TZOFFSETTO:-0500
TZNAME:EST
DTSTART:20251102T060000
END:STANDARD
BEGIN:DAYLIGHT
TZOFFSETFROM:-0500
TZOFFSETTO:-0400
TZNAME:EDT
DTSTART:20260308T070000
END:DAYLIGHT
BEGIN:STANDARD
TZOFFSETFROM:-0400
TZOFFSETTO:-0500
TZNAME:EST
DTSTART:20261101T060000
END:STANDARD
BEGIN:DAYLIGHT
TZOFFSETFROM:-0500
TZOFFSETTO:-0400
TZNAME:EDT
DTSTART:20270314T070000
END:DAYLIGHT
BEGIN:STANDARD
TZOFFSETFROM:-0400
TZOFFSETTO:-0500
TZNAME:EST
DTSTART:20271107T060000
END:STANDARD
BEGIN:DAYLIGHT
TZOFFSETFROM:-0500
TZOFFSETTO:-0400
TZNAME:EDT
DTSTART:20280312T070000
END:DAYLIGHT
BEGIN:STANDARD
TZOFFSETFROM:-0400
TZOFFSETTO:-0500
TZNAME:EST
DTSTART:20281105T060000
END:STANDARD
END:VTIMEZONE
BEGIN:VEVENT
DTSTART;VALUE=DATE:20260115
DTEND;VALUE=DATE:20270516
DTSTAMP:20260420T091351
CREATED:20251030T183942Z
LAST-MODIFIED:20260324T152253Z
UID:10000264-1768435200-1810425599@delaplaine.org
SUMMARY:Interactive Gallery: Jamie Gerhold
DESCRIPTION:From January 2026 to May 2027\, engage with a hands-on\, interactive work of art facilitated by artist Jamie Gerhold. A mural of an underwater coral reef scene will serve as the foundation for a vibrant and collaborative work of art. Visitors are invited to design a fish that will be incorporated into the larger work\, reflecting Frederick’s diverse\, complex\, and delicate community ecosystem. Open every day during our regular hours. FREE
URL:https://delaplaine.org/event/interactive-gallery-jamie-gerhold/
CATEGORIES:Every Day,Interactive Gallery,Programs
ATTACH;FMTTYPE=image/jpeg:https://delaplaine.org/wp-content/uploads/2025/10/test-e1762182242845.jpg
END:VEVENT
BEGIN:VEVENT
DTSTART;VALUE=DATE:20260307
DTEND;VALUE=DATE:20260427
DTSTAMP:20260420T091352
CREATED:20251030T183935Z
LAST-MODIFIED:20260305T162149Z
UID:10000183-1772841600-1777247999@delaplaine.org
SUMMARY:Bettie Awards
DESCRIPTION:Work in a variety of media\nView artworks created by local youth selected as 2026’s Bettie Award Winners\, who will be announced on Facebook on February 7. Join us at the Delaplaine on March 7 at 2 pm when the winners are presented and the Grand Prize announced.
URL:https://delaplaine.org/event/bettie-awards/
CATEGORIES:Exhibitions,Main Galleries
ATTACH;FMTTYPE=image/png:https://delaplaine.org/wp-content/uploads/2025/10/Dorian-Lukaszewicz_Veil-of-Silence.png
END:VEVENT
BEGIN:VEVENT
DTSTART;VALUE=DATE:20260307
DTEND;VALUE=DATE:20260427
DTSTAMP:20260420T091352
CREATED:20251030T183935Z
LAST-MODIFIED:20251030T183935Z
UID:10000185-1772841600-1777247999@delaplaine.org
SUMMARY:High School Art Club Exhibition
DESCRIPTION:A group exhibition curated by the 2025-26 cohort of art club members at the Delaplaine
URL:https://delaplaine.org/event/high-school-art-club-exhibition/
CATEGORIES:Community Engagement Gallery,Community Galleries,Exhibitions
ATTACH;FMTTYPE=image/jpeg:https://delaplaine.org/wp-content/uploads/2025/10/IMG_9662-scaled.jpg
END:VEVENT
BEGIN:VEVENT
DTSTART;VALUE=DATE:20260315
DTEND;VALUE=DATE:20260516
DTSTAMP:20260420T091352
CREATED:20251030T183933Z
LAST-MODIFIED:20260417T140252Z
UID:10000200-1773532800-1778889599@delaplaine.org
SUMMARY:Francine Brady Art Carts: First Floor Art Cart
DESCRIPTION:Kids (and adults!) can stop by the Delaplaine’s Francine Brady Art Carts during your next visit and get creative! The Art Carts offer two different activities each month. MAR 15 TO MAY 15: Look up! Explore the ornate ceilings of cathedrals and design your own \nIn addition\, a video for one of the activities will premiere on the Delaplaine at Home YouTube channel. You can watch the video and use materials that you have at home to create a variety of artworks. \nFREE
URL:https://delaplaine.org/event/art-cart-03/
CATEGORIES:Every Day,Francine Brady Art Carts,Programs,Recurring Programs & Events
ATTACH;FMTTYPE=image/jpeg:https://delaplaine.org/wp-content/uploads/2026/04/Art-Cart-Jan-2026-IMG_7849-scaled.jpg
END:VEVENT
BEGIN:VEVENT
DTSTART;VALUE=DATE:20260404
DTEND;VALUE=DATE:20260427
DTSTAMP:20260420T091352
CREATED:20260107T182746Z
LAST-MODIFIED:20260414T135444Z
UID:10000282-1775260800-1777247999@delaplaine.org
SUMMARY:Friends Meeting School
DESCRIPTION:An independent K–12 Quaker school
URL:https://delaplaine.org/event/friends-meeting-school/
CATEGORIES:Community Art Gallery,Community Galleries,Exhibitions
ATTACH;FMTTYPE=image/jpeg:https://delaplaine.org/wp-content/uploads/2026/01/Friends-Meeting-School-April-2024-4-scaled.jpg
END:VEVENT
BEGIN:VEVENT
DTSTART;VALUE=DATE:20260404
DTEND;VALUE=DATE:20260427
DTSTAMP:20260420T091352
CREATED:20260107T183906Z
LAST-MODIFIED:20260107T183906Z
UID:10000276-1775260800-1777247999@delaplaine.org
SUMMARY:Delaplaine Faculty Exhibition
DESCRIPTION:Works in a variety of media\nA showcase of the talents of those who teach at The Delaplaine Arts Center\, including painters\, metalsmiths\, photographers\, sculptors\, and more.
URL:https://delaplaine.org/event/delaplaine-faculty-exhibition/
CATEGORIES:Exhibitions,Main Galleries
ATTACH;FMTTYPE=image/jpeg:https://delaplaine.org/wp-content/uploads/2026/01/Lesa-Cook_Tim-scaled.jpg
END:VEVENT
BEGIN:VEVENT
DTSTART;VALUE=DATE:20260404
DTEND;VALUE=DATE:20260427
DTSTAMP:20260420T091352
CREATED:20260107T184007Z
LAST-MODIFIED:20260305T162623Z
UID:10000275-1775260800-1777247999@delaplaine.org
SUMMARY:Emerging Perspectives Exhibition
DESCRIPTION:Works in a variety of media\nThis annual juried exhibition highlights young adult artists at the outset of their creative endeavors. Visit Emerging Perspectives Exhibition page for more information. \nABOUT THE JUROR: Steven Pearson is the Joan Develin Coley Chair in Creative Expression and the Arts and Professor of Studio Art at McDaniel College in Westminster\, Maryland\, where he has been teaching studio art courses since 2004. Since 2005\, he has also served as the director of the college’s Esther Prangley Rice Gallery\, an exhibition space for McDaniel students and other emerging contemporary artists from the Mid-Atlantic region and beyond. Pearson has exhibited his own work throughout the United States.
URL:https://delaplaine.org/event/emerging-perspectives-exhibition/
CATEGORIES:Exhibitions,Main Galleries
ATTACH;FMTTYPE=image/jpeg:https://delaplaine.org/wp-content/uploads/2026/01/2025-Winner_Emily-Springer_My-Dream-for-You-scaled.jpg
END:VEVENT
BEGIN:VEVENT
DTSTART;VALUE=DATE:20260404
DTEND;VALUE=DATE:20260427
DTSTAMP:20260420T091352
CREATED:20260107T184128Z
LAST-MODIFIED:20260107T184128Z
UID:10000274-1775260800-1777247999@delaplaine.org
SUMMARY:John Kachik – Heroes in America
DESCRIPTION:Paintings\nA collection of contemporary mixed media portraits of individuals from the worlds of entertainment\, sports\, politics\, philanthropy\, and service who have made a mark on modern American history. They are not all American citizens or commonly perceived as heroes\, but they have all made a tremendous impact and re-defined our understanding of their work and professions.
URL:https://delaplaine.org/event/john-kachik-heroes-in-america/
CATEGORIES:Exhibitions,Main Galleries
ATTACH;FMTTYPE=image/jpeg:https://delaplaine.org/wp-content/uploads/2026/01/Kachik_John_Serena-Williams-scaled.jpg
END:VEVENT
BEGIN:VEVENT
DTSTART;VALUE=DATE:20260415
DTEND;VALUE=DATE:20260614
DTSTAMP:20260420T091352
CREATED:20260107T175040Z
LAST-MODIFIED:20260107T175040Z
UID:10000298-1776211200-1781395199@delaplaine.org
SUMMARY:Francine Brady Art Carts: Second Floor Art Cart
DESCRIPTION:Kids (and adults!) can stop by the Delaplaine’s Francine Brady Art Carts during your next visit and get creative! The Art Carts offer two different activities each month. APR 15 TO JUN 15: Experiment with layered geometric stamping\, inspired by Jeffrey Gibson\, our spring Artist of Inspiration \nIn addition\, a video for one of the activities will premiere on the Delaplaine at Home YouTube channel. You can watch the video and use materials that you have at home to create a variety of artworks. \nFREE
URL:https://delaplaine.org/event/art-cart-04/
CATEGORIES:Every Day,Francine Brady Art Carts,Programs,Recurring Programs & Events
ATTACH;FMTTYPE=image/jpeg:https://delaplaine.org/wp-content/uploads/2025/07/Artcart-scaled.jpg
END:VEVENT
BEGIN:VEVENT
DTSTART;VALUE=DATE:20260415
DTEND;VALUE=DATE:20260616
DTSTAMP:20260420T091352
CREATED:20260107T181657Z
LAST-MODIFIED:20260107T181657Z
UID:10000287-1776211200-1781567999@delaplaine.org
SUMMARY:Jamie Moore – A Still Lifestyle: Savoring the Beauty of Small Moments
DESCRIPTION:Photography\nThis series is a call to slow down and appreciate the beauty of the everyday. The photographs’ arrangements and vivid colors all stem from the artist’s love of still life.
URL:https://delaplaine.org/event/jamie-moore-a-still-lifestyle-savoring-the-beauty-of-small-moments/
LOCATION:Brunswick Branch Library\, 915 N Maple Ave\, Brunswick\, MD\, 21716\, United States
CATEGORIES:Exhibitions,Satellite Galleries
ATTACH;FMTTYPE=image/jpeg:https://delaplaine.org/wp-content/uploads/2026/01/Jamie-Moore_Oranges.jpg
END:VEVENT
BEGIN:VEVENT
DTSTART;VALUE=DATE:20260415
DTEND;VALUE=DATE:20260616
DTSTAMP:20260420T091352
CREATED:20260107T181759Z
LAST-MODIFIED:20260414T140126Z
UID:10000286-1776211200-1781567999@delaplaine.org
SUMMARY:David Terrar – Frederick's Small Maryland Towns
DESCRIPTION:Paintings\nThis exhibition celebrates small towns just outside of Frederick by capturing their churches\, homes\, businesses\, and other buildings in paintings.
URL:https://delaplaine.org/event/david-terrar-fredericks-small-maryland-towns/
LOCATION:Thurmont Regional Library\, 76 E Moser Rd\, Thurmont\, MD\, 21788\, United States
CATEGORIES:Exhibitions,Satellite Galleries
ATTACH;FMTTYPE=image/jpeg:https://delaplaine.org/wp-content/uploads/2026/01/The-Red-House-New-Market-MD-scaled.jpg
END:VEVENT
BEGIN:VEVENT
DTSTART;VALUE=DATE:20260415
DTEND;VALUE=DATE:20260616
DTSTAMP:20260420T091352
CREATED:20260107T181906Z
LAST-MODIFIED:20260107T181906Z
UID:10000285-1776211200-1781567999@delaplaine.org
SUMMARY:Vicki Clarkson – What Changes Us
DESCRIPTION:Watercolor\nAn exploration of the ethereal moment of transitions\, when our world shifts and the view is altered. When the beauty moves through known lines and shapes to something anew.
URL:https://delaplaine.org/event/vicki-clarkson-what-changes-us/
LOCATION:Urbana Regional Library\, 9020 Amelung St\, Frederick\, MD\, 21704\, United States
CATEGORIES:Exhibitions,Satellite Galleries
ATTACH;FMTTYPE=image/jpeg:https://delaplaine.org/wp-content/uploads/2026/01/Clarkson_A-Look-Into-scaled.jpeg
END:VEVENT
BEGIN:VEVENT
DTSTART;TZID=America/New_York:20260415T130000
DTEND;TZID=America/New_York:20260520T153000
DTSTAMP:20260420T091352
CREATED:20260107T170220Z
LAST-MODIFIED:20260417T135918Z
UID:10000335-1776258000-1779291000@delaplaine.org
SUMMARY:The Italic Hand
DESCRIPTION:The Italic hand was popular in the Renaissance because the slightly sloping letters have a cursive arch form that allowed for speed and economy in writing briefs and less formal documents. We will learn the rhythm and cursive quality of this hand using a broad-edged dip pen. NOTE: Left-handed students should consult with the Delaplaine staff about modifications before enrolling. Supply list will be provided with confirmation. (Estimated maximum cost: $15)
URL:https://delaplaine.org/event/26-4-om04/
CATEGORIES:Instruction,Teen & Adult Classes & Workshops
ATTACH;FMTTYPE=image/jpeg:https://delaplaine.org/wp-content/uploads/2026/01/IMG_7440-1.jpg
END:VEVENT
BEGIN:VEVENT
DTSTART;TZID=America/New_York:20260425T093000
DTEND;TZID=America/New_York:20260425T163000
DTSTAMP:20260420T091352
CREATED:20260107T162643Z
LAST-MODIFIED:20260123T171932Z
UID:10000359-1777109400-1777134600@delaplaine.org
SUMMARY:Woodturning: Turn a Bowl
DESCRIPTION:Learn basic wood turning techniques and familiarize yourself with a lathe as you turn a 4- to 6-inch wooden bowl. This one-day introductory workshop is taught by the Mid-Maryland Woodturners Club\, whose mission is to educate its members and the public on the art and craft of woodturning. Tuition includes all supplies.
URL:https://delaplaine.org/event/26-4-wd03/
CATEGORIES:Instruction,Teen & Adult Classes & Workshops
ATTACH;FMTTYPE=image/jpeg:https://delaplaine.org/wp-content/uploads/2026/01/IMG_4126-scaled.jpg
END:VEVENT
BEGIN:VEVENT
DTSTART;TZID=America/New_York:20260425T100000
DTEND;TZID=America/New_York:20260425T160000
DTSTAMP:20260420T091352
CREATED:20260107T170540Z
LAST-MODIFIED:20260416T161823Z
UID:10000337-1777111200-1777132800@delaplaine.org
SUMMARY:Eraser Stamp Printmaking
DESCRIPTION:Explore the wonders of printmaking on a smaller scale while working with mini eraser prints and small linocut blocks. Create relief printing blocks to be printed during the Saturday workshop and also taken home for continued use in mixed media ventures\, scrapbooking\, and card making. You will also learn about and have the opportunity to contribute to an international printmaking project based in Canada! Tuition includes all supplies.
URL:https://delaplaine.org/event/26-4-om06/
CATEGORIES:Instruction,Teen & Adult Classes & Workshops
ATTACH;FMTTYPE=image/jpeg:https://delaplaine.org/wp-content/uploads/2026/01/Eraser-Stamp-Printmaking-scaled.jpg
END:VEVENT
BEGIN:VEVENT
DTSTART;TZID=America/New_York:20260429T170000
DTEND;TZID=America/New_York:20260429T200000
DTSTAMP:20260420T091352
CREATED:20260107T162349Z
LAST-MODIFIED:20260331T150752Z
UID:10000344-1777482000-1777492800@delaplaine.org
SUMMARY:BYOS: Spring Florals Still Life
DESCRIPTION:Join us for a still life open studio featuring a stunning\, unique\, and unconventional floral arrangement by Ellen Salvatore Florals. Artists must provide their own supplies\, easels are available. Work on an existing project or start something brand new! Artists must bring their own supplies. Easels are available. Registration at delaplaine.org is encouraged.
URL:https://delaplaine.org/event/26-4-prg03/
CATEGORIES:BYOS,Open Studios,Programs,Recurring Programs & Events
ATTACH;FMTTYPE=image/jpeg:https://delaplaine.org/wp-content/uploads/2026/01/BYOS-Spring-Florals-Still-Life.jpg
END:VEVENT
BEGIN:VEVENT
DTSTART;VALUE=DATE:20260502
DTEND;VALUE=DATE:20260629
DTSTAMP:20260420T091352
CREATED:20260107T183055Z
LAST-MODIFIED:20260414T135255Z
UID:10000281-1777680000-1782691199@delaplaine.org
SUMMARY:Amplified Change
DESCRIPTION:Empowering children to heal trauma and build resilience through the transformative power of art and education in a safe\, supportive\, and inclusive environment
URL:https://delaplaine.org/event/amplified-change/
CATEGORIES:Community Engagement Gallery,Community Galleries,Exhibitions
ATTACH;FMTTYPE=image/png:https://delaplaine.org/wp-content/uploads/2026/01/Logo_PNG_AC-1024x309-1.png
END:VEVENT
BEGIN:VEVENT
DTSTART;VALUE=DATE:20260502
DTEND;VALUE=DATE:20260629
DTSTAMP:20260420T091352
CREATED:20260107T183229Z
LAST-MODIFIED:20260107T183229Z
UID:10000280-1777680000-1782691199@delaplaine.org
SUMMARY:Ali Wunder – The Language of Flowers
DESCRIPTION:Acrylic paint and mixed media with embroidery\nDrawing from her collection of vintage and heirloom textiles\, Wunder’s paintings include embroidery\, fabric\, and pattern tissue\, which she says are more than embellishment\, they are a means of preserving not just beauty but belonging.
URL:https://delaplaine.org/event/ali-wunder-the-language-of-flowers/
CATEGORIES:Exhibitions,Main Galleries
ATTACH;FMTTYPE=image/jpeg:https://delaplaine.org/wp-content/uploads/2026/01/Wunder_Ali_Last-Harvest-scaled.jpeg
END:VEVENT
BEGIN:VEVENT
DTSTART;VALUE=DATE:20260502
DTEND;VALUE=DATE:20260629
DTSTAMP:20260420T091352
CREATED:20260107T183339Z
LAST-MODIFIED:20260107T190243Z
UID:10000279-1777680000-1782691199@delaplaine.org
SUMMARY:Scott Ponemone – 2 by 2
DESCRIPTION:Watercolor paintings\nThis watercolor series of couples’ portraits began in 2017\, continued through the COVID pandemic\, and concluded in 2025 after 86 paintings were completed.
URL:https://delaplaine.org/event/scott-ponemone-2-by-2/
CATEGORIES:Exhibitions,Main Galleries
ATTACH;FMTTYPE=image/jpeg:https://delaplaine.org/wp-content/uploads/2026/01/Ponemone-Rescue-Haven-copy.jpeg
END:VEVENT
BEGIN:VEVENT
DTSTART;VALUE=DATE:20260502
DTEND;VALUE=DATE:20260629
DTSTAMP:20260420T091352
CREATED:20260107T183537Z
LAST-MODIFIED:20260107T183537Z
UID:10000278-1777680000-1782691199@delaplaine.org
SUMMARY:Lorena Long – Invitation
DESCRIPTION:Paintings\nWe often overlook ordinary wonders in nature—quiet reminders that grace and beauty persist in familiar places. Invitation takes its title from the poem by Mary Oliver\, echoing its gentle call to pay attention. At its heart\, this show turns our gaze toward process and presence and is an invitation to slow down\, reconnect\, and rediscover wonder in everyday life.
URL:https://delaplaine.org/event/lorena-long-invitation/
CATEGORIES:Exhibitions,Main Galleries
ATTACH;FMTTYPE=image/jpeg:https://delaplaine.org/wp-content/uploads/2026/01/Where-The-Wonder-Lives-scaled.jpg
END:VEVENT
BEGIN:VEVENT
DTSTART;TZID=America/New_York:20260502T130000
DTEND;TZID=America/New_York:20260502T143000
DTSTAMP:20260420T091352
CREATED:20260228T201639Z
LAST-MODIFIED:20260228T201639Z
UID:10000385-1777726800-1777732200@delaplaine.org
SUMMARY:Big Zines
DESCRIPTION:Create your own mega magazine (zine) by learning a fun folding technique! Use watercolor to splash the zine with color and continue to add to it creatively while learning a variety of techniques. \nThis workshop will take place at the Brunswick Branch Library\, 915 North Maple Avenue Brunswick\, MD 21716. \nNOTE: The end time for this workshop has changed from what was published. It will now end at 2:30 pm.
URL:https://delaplaine.org/event/26-4-hs03/
LOCATION:Brunswick Branch Library\, 915 N Maple Ave\, Brunswick\, MD\, 21716\, United States
CATEGORIES:Helen Smith Workshops,Instruction
ATTACH;FMTTYPE=image/jpeg:https://delaplaine.org/wp-content/uploads/2026/04/Big-Zine-scaled.jpg
END:VEVENT
BEGIN:VEVENT
DTSTART;TZID=America/New_York:20260502T140000
DTEND;TZID=America/New_York:20260502T143000
DTSTAMP:20260420T091352
CREATED:20260107T175808Z
LAST-MODIFIED:20260107T175808Z
UID:10000292-1777730400-1777732200@delaplaine.org
SUMMARY:Art Matters Artist Talk
DESCRIPTION:Join us as we enhance our understanding and appreciation of art! Talks will be presented in person at the Delaplaine\, and then will be available on our YouTube channel about two weeks later. THIS MONTH: National Juried Exhibition juror Kyle Hackett will describe his work as an artist and art educator and present this year’s award winners. \nFREE
URL:https://delaplaine.org/event/art-matters-artist-talk-05/
CATEGORIES:Art Matters Artist Talks,Art Talks,Programs,Recurring Programs & Events
ATTACH;FMTTYPE=image/jpeg:https://delaplaine.org/wp-content/uploads/2026/01/DSC_0122-scaled.jpg
END:VEVENT
BEGIN:VEVENT
DTSTART;TZID=America/New_York:20260502T150000
DTEND;TZID=America/New_York:20260502T163000
DTSTAMP:20260420T091352
CREATED:20260228T202028Z
LAST-MODIFIED:20260228T202028Z
UID:10000386-1777734000-1777739400@delaplaine.org
SUMMARY:Needle Felted Friends
DESCRIPTION:Explore sculpting with wool! Needle felting is a process which transforms wool fibers by interlocking and condensing them to create 2D or 3D works of art! Work with colorful wool and felting needles to learn and practice techniques as you create a fuzzy felted friend. \nThis workshop will take place at the Brunswick Branch Library\, 915 North Maple Avenue Brunswick\, MD 21716. \nNOTE: The times for this workshop have changed from what was published. It will now begin at 3 pm and end at 4:30 pm.
URL:https://delaplaine.org/event/26-4-hs04/
LOCATION:Brunswick Branch Library\, 915 N Maple Ave\, Brunswick\, MD\, 21716\, United States
CATEGORIES:Helen Smith Workshops,Instruction
ATTACH;FMTTYPE=image/jpeg:https://delaplaine.org/wp-content/uploads/2026/04/Fuzzy-Needle-Felted-Friend-1-1-rotated.jpeg
END:VEVENT
BEGIN:VEVENT
DTSTART;TZID=America/New_York:20260502T150000
DTEND;TZID=America/New_York:20260502T170000
DTSTAMP:20260420T091352
CREATED:20260107T175350Z
LAST-MODIFIED:20260107T175350Z
UID:10000295-1777734000-1777741200@delaplaine.org
SUMMARY:Creative Outlet
DESCRIPTION:Kids and their adults are invited to drop-in and get creative together in our family open studio to create an artist-inspired project! THIS MONTH: Design a unique fish to contribute to our interactive gallery project\, led by Jamie Gerhold \nPlease limit your time to about an hour\, especially if other families are waiting for a table. At least one adult must be present at each table. Please\, no large groups. Visit the Group Workshops and Birthday Art Parties page of our website to book a private group art event. \nFREE
URL:https://delaplaine.org/event/creative-outlet-05/
CATEGORIES:Creative Outlet,Family, Kids & Teens,Programs,Recurring Programs & Events
ATTACH;FMTTYPE=image/jpeg:https://delaplaine.org/wp-content/uploads/2026/01/DSC_0117-scaled.jpg
END:VEVENT
BEGIN:VEVENT
DTSTART;TZID=America/New_York:20260502T150000
DTEND;TZID=America/New_York:20260502T170000
DTSTAMP:20260420T091352
CREATED:20260107T181359Z
LAST-MODIFIED:20260107T181359Z
UID:10000289-1777734000-1777741200@delaplaine.org
SUMMARY:Exhibition Openings
DESCRIPTION:View exhibitions and meet the artists! Get exhibition details on the Exhibitions page of our website. FREE
URL:https://delaplaine.org/event/exhibition-openings-5/
CATEGORIES:Programs,Recurring Programs & Events
ATTACH;FMTTYPE=image/jpeg:https://delaplaine.org/wp-content/uploads/2026/01/FCAA-Jan-2026-Opening-Visitors-Artists-DSC_0104-scaled.jpg
END:VEVENT
BEGIN:VEVENT
DTSTART;TZID=America/New_York:20260503T120000
DTEND;TZID=America/New_York:20260503T160000
DTSTAMP:20260420T091352
CREATED:20260107T202336Z
LAST-MODIFIED:20260416T175614Z
UID:10000369-1777809600-1777824000@delaplaine.org
SUMMARY:Downtown Frederick Artwalk
DESCRIPTION:Take a self-guided jaunt downtown and visit local galleries! At the Gift Gallery at the Delaplaine this month: Cynthia Corro of Lunniaya\, featuring witchy and whimsical mixed media artwork\, wood\, and jewelry. \nThe Downtown Frederick Artwalk is a program of the Downtown Frederick Partnership. Visit their website for the full list of participating galleries.
URL:https://delaplaine.org/event/artwalk05/
CATEGORIES:Programs,Recurring Programs & Events
ATTACH;FMTTYPE=image/jpeg:https://delaplaine.org/wp-content/uploads/2026/01/IMG_8443.jpg
END:VEVENT
BEGIN:VEVENT
DTSTART;TZID=America/New_York:20260507T180000
DTEND;TZID=America/New_York:20260507T210000
DTSTAMP:20260420T091352
CREATED:20260107T162147Z
LAST-MODIFIED:20260123T181535Z
UID:10000342-1778176800-1778187600@delaplaine.org
SUMMARY:Third Space Open Studio
DESCRIPTION:Are you seeking artistic community and physical space to make your art? Come to Third Space Open Studio to meet other artists and create your work in a supportive environment. Third Space is what you make it! Open to adult artists of any visual artistic medium. Registration at delaplaine.org is encouraged. Artists must provide their own supplies. The Delaplaine provides easels\, tables and chairs\, electrical outlets\, extension cords\, stand lights\, and still-life objects\, and the Etchison-Davis art reference library is available on the 2nd floor.
URL:https://delaplaine.org/event/26-4-prg04/
CATEGORIES:Open Studios,Programs,Recurring Programs & Events,Third Space Open Studio
ATTACH;FMTTYPE=image/jpeg:https://delaplaine.org/wp-content/uploads/2026/01/Third-Space-Open-Studio-Oct-2025-DSC_0193-scaled.jpg
END:VEVENT
BEGIN:VEVENT
DTSTART;TZID=America/New_York:20260508T120000
DTEND;TZID=America/New_York:20260508T130000
DTSTAMP:20260420T091352
CREATED:20260107T180723Z
LAST-MODIFIED:20260107T180723Z
UID:10000302-1778241600-1778245200@delaplaine.org
SUMMARY:Art at Noon: Narratives Through Exhibitions and Acquisitions
DESCRIPTION:Join Betsy Johnson\, Assistant Curator at the Hirshhorn Museum and Sculpture Garden\, as she talks about developing story and narrative through exhibition curation and museum acquisitions. At the Hirshhorn\, she has curated Tony Lewis: Anthology 2014–2016 (2018)\, The Evidence Room (2019)\, Feel the Sun in Your Mouth: Recent Acquisitions (2019)\, Toyin Ojih Odutola: A Countervailing Theory (2021)\, One with Eternity: Yayoi Kusama in the Hirshhorn Collection (2022)\, A Window Suddenly Opens: Contemporary Photography in China (2022)\, Jessica Diamond: Wheel Of Life (2023)\, and Basquiat x Banksy (2024)\, as well as Revolutions: Art from the Hirshhorn Collection\, 1860-1960 (2024)\, which she co-curated with Marina Isgro. \nFREE
URL:https://delaplaine.org/event/art-at-noon-narratives-through-exhibitions-and-acquisitions/
CATEGORIES:Art at Noon/Art at Night,Art Talks,Programs,Recurring Programs & Events
ATTACH;FMTTYPE=image/jpeg:https://delaplaine.org/wp-content/uploads/2026/01/Betsy-Johnson-Headshot-scaled.jpeg
END:VEVENT
BEGIN:VEVENT
DTSTART;TZID=America/New_York:20260509T120000
DTEND;TZID=America/New_York:20260510T160000
DTSTAMP:20260420T091352
CREATED:20260107T160925Z
LAST-MODIFIED:20260122T165515Z
UID:10000319-1778328000-1778428800@delaplaine.org
SUMMARY:Making Your Own Comic Strips
DESCRIPTION:Explore the world of designing comic strips! In this weekend workshop\, learn to set up the page and create an immersive story and characters. Previous drawing experience recommended. Tuition includes all supplies\, except a sketchbook of any size.
URL:https://delaplaine.org/event/26-4-dr04/
CATEGORIES:Instruction,Teen & Adult Classes & Workshops
ATTACH;FMTTYPE=image/jpeg:https://delaplaine.org/wp-content/uploads/2026/01/Comic-scaled.jpg
END:VEVENT
BEGIN:VEVENT
DTSTART;TZID=America/New_York:20260509T130000
DTEND;TZID=America/New_York:20260509T150000
DTSTAMP:20260420T091352
CREATED:20260107T163423Z
LAST-MODIFIED:20260122T190228Z
UID:10000339-1778331600-1778338800@delaplaine.org
SUMMARY:Still Life with Motion
DESCRIPTION:Explore taking a simple still life photograph and transform it into an abstract or impressionist image through the use of long exposure and camera movement in this Saturday afternoon workshop. All skill levels welcome. Bring your smartphone with the Slow Shutter Cam app installed.
URL:https://delaplaine.org/event/26-4-ph02/
CATEGORIES:Instruction,Teen & Adult Classes & Workshops
ATTACH;FMTTYPE=image/jpeg:https://delaplaine.org/wp-content/uploads/2026/01/Still-Life-with-Motion-scaled.jpeg
END:VEVENT
END:VCALENDAR