BEGIN:VCALENDAR
VERSION:2.0
PRODID:-//The Delaplaine Arts Center - ECPv6.15.20//NONSGML v1.0//EN
CALSCALE:GREGORIAN
METHOD:PUBLISH
X-WR-CALNAME:The Delaplaine Arts Center
X-ORIGINAL-URL:https://delaplaine.org
X-WR-CALDESC:Events for The Delaplaine Arts Center
REFRESH-INTERVAL;VALUE=DURATION:PT1H
X-Robots-Tag:noindex
X-PUBLISHED-TTL:PT1H
BEGIN:VTIMEZONE
TZID:America/New_York
BEGIN:DAYLIGHT
TZOFFSETFROM:-0500
TZOFFSETTO:-0400
TZNAME:EDT
DTSTART:20250309T070000
END:DAYLIGHT
BEGIN:STANDARD
TZOFFSETFROM:-0400
TZOFFSETTO:-0500
TZNAME:EST
DTSTART:20251102T060000
END:STANDARD
BEGIN:DAYLIGHT
TZOFFSETFROM:-0500
TZOFFSETTO:-0400
TZNAME:EDT
DTSTART:20260308T070000
END:DAYLIGHT
BEGIN:STANDARD
TZOFFSETFROM:-0400
TZOFFSETTO:-0500
TZNAME:EST
DTSTART:20261101T060000
END:STANDARD
BEGIN:DAYLIGHT
TZOFFSETFROM:-0500
TZOFFSETTO:-0400
TZNAME:EDT
DTSTART:20270314T070000
END:DAYLIGHT
BEGIN:STANDARD
TZOFFSETFROM:-0400
TZOFFSETTO:-0500
TZNAME:EST
DTSTART:20271107T060000
END:STANDARD
END:VTIMEZONE
BEGIN:VEVENT
DTSTART;VALUE=DATE:20260915
DTEND;VALUE=DATE:20261116
DTSTAMP:20260421T074812
CREATED:20260414T161454Z
LAST-MODIFIED:20260414T171815Z
UID:6331-1789430400-1794787199@delaplaine.org
SUMMARY:Francine Brady Art Carts: First Floor Art Cart
DESCRIPTION:Kids (and adults!) can stop by the Delaplaine’s Francine Brady Art Carts during your next visit and get creative! The Art Carts offer two different activities each month. SEP 15 TO NOV 15: Make cave art for our upcoming gala\, Ancients and Aliens! \nIn addition\, a video for one of the activities will premiere on the Delaplaine at Home YouTube channel. You can watch the video and use materials that you have at home to create a variety of artworks. \nFREE
URL:https://delaplaine.org/event/art-cart-09/
CATEGORIES:Every Day,Francine Brady Art Carts,Programs,Recurring Programs & Events
ATTACH;FMTTYPE=image/jpeg:https://delaplaine.org/wp-content/uploads/2026/04/Art-Cart-Jan-2026-IMG_7849-scaled.jpg
END:VEVENT
END:VCALENDAR