BEGIN:VCALENDAR
VERSION:2.0
PRODID:-//The Delaplaine Arts Center - ECPv6.15.20//NONSGML v1.0//EN
CALSCALE:GREGORIAN
METHOD:PUBLISH
X-WR-CALNAME:The Delaplaine Arts Center
X-ORIGINAL-URL:https://delaplaine.org
X-WR-CALDESC:Events for The Delaplaine Arts Center
REFRESH-INTERVAL;VALUE=DURATION:PT1H
X-Robots-Tag:noindex
X-PUBLISHED-TTL:PT1H
BEGIN:VTIMEZONE
TZID:America/New_York
BEGIN:DAYLIGHT
TZOFFSETFROM:-0500
TZOFFSETTO:-0400
TZNAME:EDT
DTSTART:20250309T070000
END:DAYLIGHT
BEGIN:STANDARD
TZOFFSETFROM:-0400
TZOFFSETTO:-0500
TZNAME:EST
DTSTART:20251102T060000
END:STANDARD
BEGIN:DAYLIGHT
TZOFFSETFROM:-0500
TZOFFSETTO:-0400
TZNAME:EDT
DTSTART:20260308T070000
END:DAYLIGHT
BEGIN:STANDARD
TZOFFSETFROM:-0400
TZOFFSETTO:-0500
TZNAME:EST
DTSTART:20261101T060000
END:STANDARD
BEGIN:DAYLIGHT
TZOFFSETFROM:-0500
TZOFFSETTO:-0400
TZNAME:EDT
DTSTART:20270314T070000
END:DAYLIGHT
BEGIN:STANDARD
TZOFFSETFROM:-0400
TZOFFSETTO:-0500
TZNAME:EST
DTSTART:20271107T060000
END:STANDARD
END:VTIMEZONE
BEGIN:VEVENT
DTSTART;TZID=America/New_York:20260615T180000
DTEND;TZID=America/New_York:20260720T210000
DTSTAMP:20260424T062158
CREATED:20260414T193854Z
LAST-MODIFIED:20260417T134708Z
UID:6402-1781546400-1784581200@delaplaine.org
SUMMARY:Intro to Painting: Color Theory
DESCRIPTION:Interested in painting but not sure where to start? Start with the basics: color theory! Learn how to paint reflected light\, create convincing illusions\, and bring vibrancy to your artwork\, all through the application of color! This course will cover the basics of acrylic painting\, but the focus will be on color theory and how it can bring life to your work. Apply your new skills to creating a painting of your favorite fruits or vegetables. All skill levels welcome. Supply list will be included with confirmation. (Estimated maximum cost: $90)
URL:https://delaplaine.org/event/27-1-pt03/
CATEGORIES:Instruction,Teen & Adult Classes & Workshops
ATTACH;FMTTYPE=image/jpeg:https://delaplaine.org/wp-content/uploads/2026/04/Color-Theory.jpg
END:VEVENT
END:VCALENDAR