BEGIN:VCALENDAR
VERSION:2.0
PRODID:-//The Delaplaine Arts Center - ECPv6.15.20//NONSGML v1.0//EN
CALSCALE:GREGORIAN
METHOD:PUBLISH
X-WR-CALNAME:The Delaplaine Arts Center
X-ORIGINAL-URL:https://delaplaine.org
X-WR-CALDESC:Events for The Delaplaine Arts Center
REFRESH-INTERVAL;VALUE=DURATION:PT1H
X-Robots-Tag:noindex
X-PUBLISHED-TTL:PT1H
BEGIN:VTIMEZONE
TZID:America/New_York
BEGIN:DAYLIGHT
TZOFFSETFROM:-0500
TZOFFSETTO:-0400
TZNAME:EDT
DTSTART:20250309T070000
END:DAYLIGHT
BEGIN:STANDARD
TZOFFSETFROM:-0400
TZOFFSETTO:-0500
TZNAME:EST
DTSTART:20251102T060000
END:STANDARD
BEGIN:DAYLIGHT
TZOFFSETFROM:-0500
TZOFFSETTO:-0400
TZNAME:EDT
DTSTART:20260308T070000
END:DAYLIGHT
BEGIN:STANDARD
TZOFFSETFROM:-0400
TZOFFSETTO:-0500
TZNAME:EST
DTSTART:20261101T060000
END:STANDARD
BEGIN:DAYLIGHT
TZOFFSETFROM:-0500
TZOFFSETTO:-0400
TZNAME:EDT
DTSTART:20270314T070000
END:DAYLIGHT
BEGIN:STANDARD
TZOFFSETFROM:-0400
TZOFFSETTO:-0500
TZNAME:EST
DTSTART:20271107T060000
END:STANDARD
END:VTIMEZONE
BEGIN:VEVENT
DTSTART;TZID=America/New_York:20260629T160000
DTEND;TZID=America/New_York:20260701T170000
DTSTAMP:20260421T091323
CREATED:20260109T164721Z
LAST-MODIFIED:20260123T194849Z
UID:4936-1782748800-1782925200@delaplaine.org
SUMMARY:Journal Vandalizing Teen Workshop
DESCRIPTION:Transform recycled composition books into vibrant visual journals in this creative\, hands-on three-day workshop. Each day you will “wreck” the pages of your journal through playful experimentation with painting\, collaging \, layering textures\, and exploration of a wide range of mixed media art techniques. Every journal becomes a one-of-a-kind work of art bursting with personality.
URL:https://delaplaine.org/event/27-1-om01/
CATEGORIES:Instruction,Teen & Adult Classes & Workshops,Youth Classes
ATTACH;FMTTYPE=image/jpeg:https://delaplaine.org/wp-content/uploads/2026/01/Journal.jpg
END:VEVENT
END:VCALENDAR