BEGIN:VCALENDAR
VERSION:2.0
PRODID:-//The Delaplaine Arts Center - ECPv6.15.20//NONSGML v1.0//EN
CALSCALE:GREGORIAN
METHOD:PUBLISH
X-WR-CALNAME:The Delaplaine Arts Center
X-ORIGINAL-URL:https://delaplaine.org
X-WR-CALDESC:Events for The Delaplaine Arts Center
REFRESH-INTERVAL;VALUE=DURATION:PT1H
X-Robots-Tag:noindex
X-PUBLISHED-TTL:PT1H
BEGIN:VTIMEZONE
TZID:America/New_York
BEGIN:DAYLIGHT
TZOFFSETFROM:-0500
TZOFFSETTO:-0400
TZNAME:EDT
DTSTART:20250309T070000
END:DAYLIGHT
BEGIN:STANDARD
TZOFFSETFROM:-0400
TZOFFSETTO:-0500
TZNAME:EST
DTSTART:20251102T060000
END:STANDARD
BEGIN:DAYLIGHT
TZOFFSETFROM:-0500
TZOFFSETTO:-0400
TZNAME:EDT
DTSTART:20260308T070000
END:DAYLIGHT
BEGIN:STANDARD
TZOFFSETFROM:-0400
TZOFFSETTO:-0500
TZNAME:EST
DTSTART:20261101T060000
END:STANDARD
BEGIN:DAYLIGHT
TZOFFSETFROM:-0500
TZOFFSETTO:-0400
TZNAME:EDT
DTSTART:20270314T070000
END:DAYLIGHT
BEGIN:STANDARD
TZOFFSETFROM:-0400
TZOFFSETTO:-0500
TZNAME:EST
DTSTART:20271107T060000
END:STANDARD
END:VTIMEZONE
BEGIN:VEVENT
DTSTART;TZID=America/New_York:20260808T100000
DTEND;TZID=America/New_York:20260809T160000
DTSTAMP:20260424T062010
CREATED:20260414T193646Z
LAST-MODIFIED:20260423T203948Z
UID:6386-1786183200-1786291200@delaplaine.org
SUMMARY:Sew Your Own Wrap Dress
DESCRIPTION:Ready to move beyond basic pajamas and tote bags? Join us to create a timeless\, universally flattering wardrobe staple: the wrap dress! This weekend advanced beginner class focuses on leveling up your garment construction skills while making a dress you will actually want to wear. Tuition includes all supplies\, aside from fabric. A limited number of machines are available; if you do not own a machine\, please reserve one as early as possible.  \nNOTE: This workshop will take place from 10am to 4:30pm on on Saturday and 12 to 4pm on Sunday.
URL:https://delaplaine.org/event/27-1-fb07/
CATEGORIES:Instruction,Teen & Adult Classes & Workshops
ATTACH;FMTTYPE=image/jpeg:https://delaplaine.org/wp-content/uploads/2026/04/Wrap-Dress-1.jpg
END:VEVENT
END:VCALENDAR