BEGIN:VCALENDAR
VERSION:2.0
PRODID:-//The Delaplaine Arts Center - ECPv6.15.20//NONSGML v1.0//EN
CALSCALE:GREGORIAN
METHOD:PUBLISH
X-WR-CALNAME:The Delaplaine Arts Center
X-ORIGINAL-URL:https://delaplaine.org
X-WR-CALDESC:Events for The Delaplaine Arts Center
REFRESH-INTERVAL;VALUE=DURATION:PT1H
X-Robots-Tag:noindex
X-PUBLISHED-TTL:PT1H
BEGIN:VTIMEZONE
TZID:America/New_York
BEGIN:DAYLIGHT
TZOFFSETFROM:-0500
TZOFFSETTO:-0400
TZNAME:EDT
DTSTART:20250309T070000
END:DAYLIGHT
BEGIN:STANDARD
TZOFFSETFROM:-0400
TZOFFSETTO:-0500
TZNAME:EST
DTSTART:20251102T060000
END:STANDARD
BEGIN:DAYLIGHT
TZOFFSETFROM:-0500
TZOFFSETTO:-0400
TZNAME:EDT
DTSTART:20260308T070000
END:DAYLIGHT
BEGIN:STANDARD
TZOFFSETFROM:-0400
TZOFFSETTO:-0500
TZNAME:EST
DTSTART:20261101T060000
END:STANDARD
BEGIN:DAYLIGHT
TZOFFSETFROM:-0500
TZOFFSETTO:-0400
TZNAME:EDT
DTSTART:20270314T070000
END:DAYLIGHT
BEGIN:STANDARD
TZOFFSETFROM:-0400
TZOFFSETTO:-0500
TZNAME:EST
DTSTART:20271107T060000
END:STANDARD
END:VTIMEZONE
BEGIN:VEVENT
DTSTART;TZID=America/New_York:20260326T180000
DTEND;TZID=America/New_York:20260514T210000
DTSTAMP:20260421T091434
CREATED:20260228T205013Z
LAST-MODIFIED:20260319T204439Z
UID:5764-1774548000-1778792400@delaplaine.org
SUMMARY:Monochromatic Oil Painting: The Value of Values
DESCRIPTION:One of the keys to a successful naturalistic painting is a wide range of values. By creating a grisaille\, or tonal painting\, you can focus on value\, which is key to creating the illusion of an object that has depth. Begin the course by creating a four-value study of a composition. Then create a full value scale and a small\, simplified study before painting a nine-value painting. Previous basic drawing and painting experience is recommended. Supply list will be included with confirmation. (Estimated maximum cost: $120)
URL:https://delaplaine.org/event/26-4-pt07/
CATEGORIES:Instruction,Teen & Adult Classes & Workshops
ATTACH;FMTTYPE=image/jpeg:https://delaplaine.org/wp-content/uploads/2026/01/Monocromatic.jpg
END:VEVENT
END:VCALENDAR