BEGIN:VCALENDAR
VERSION:2.0
PRODID:-//The Delaplaine Arts Center - ECPv6.15.20//NONSGML v1.0//EN
CALSCALE:GREGORIAN
METHOD:PUBLISH
X-WR-CALNAME:The Delaplaine Arts Center
X-ORIGINAL-URL:https://delaplaine.org
X-WR-CALDESC:Events for The Delaplaine Arts Center
REFRESH-INTERVAL;VALUE=DURATION:PT1H
X-Robots-Tag:noindex
X-PUBLISHED-TTL:PT1H
BEGIN:VTIMEZONE
TZID:America/New_York
BEGIN:DAYLIGHT
TZOFFSETFROM:-0500
TZOFFSETTO:-0400
TZNAME:EDT
DTSTART:20250309T070000
END:DAYLIGHT
BEGIN:STANDARD
TZOFFSETFROM:-0400
TZOFFSETTO:-0500
TZNAME:EST
DTSTART:20251102T060000
END:STANDARD
BEGIN:DAYLIGHT
TZOFFSETFROM:-0500
TZOFFSETTO:-0400
TZNAME:EDT
DTSTART:20260308T070000
END:DAYLIGHT
BEGIN:STANDARD
TZOFFSETFROM:-0400
TZOFFSETTO:-0500
TZNAME:EST
DTSTART:20261101T060000
END:STANDARD
BEGIN:DAYLIGHT
TZOFFSETFROM:-0500
TZOFFSETTO:-0400
TZNAME:EDT
DTSTART:20270314T070000
END:DAYLIGHT
BEGIN:STANDARD
TZOFFSETFROM:-0400
TZOFFSETTO:-0500
TZNAME:EST
DTSTART:20271107T060000
END:STANDARD
END:VTIMEZONE
BEGIN:VEVENT
DTSTART;TZID=America/New_York:20260107T180000
DTEND;TZID=America/New_York:20260211T200000
DTSTAMP:20260421T045208
CREATED:20251028T040005Z
LAST-MODIFIED:20260112T145728Z
UID:3196-1767808800-1770840000@delaplaine.org
SUMMARY:Intro to Paper Quilling
DESCRIPTION:Explore the art of paper quilling! Roll\, fold\, weave\, and shape paper into beautiful and colorful designs. All skill levels welcome. Supply list will be included with confirmation. (Estimated maximum cost: $35)
URL:https://delaplaine.org/event/26-3-om01/
CATEGORIES:Instruction,Teen & Adult Classes & Workshops
ATTACH;FMTTYPE=image/jpeg:https://delaplaine.org/wp-content/uploads/2025/10/26-3-OM01a-scaled.jpg
END:VEVENT
END:VCALENDAR